Package: biscuiteer Version: 1.24.0 Command: rm -rf biscuiteer.buildbin-libdir && mkdir biscuiteer.buildbin-libdir && /Users/biocbuild/BBS/utils/build-universal.sh biscuiteer_1.24.0.tar.gz /Library/Frameworks/R.framework/Resources/bin/R biscuiteer.buildbin-libdir StartedAt: 2025-11-04 01:30:08 -0500 (Tue, 04 Nov 2025) EndedAt: 2025-11-04 01:31:49 -0500 (Tue, 04 Nov 2025) EllapsedTime: 100.8 seconds RetCode: 0 Status: OK PackageFile: biscuiteer_1.24.0.tgz PackageFileSize: 5.194 MiB