Package: biscuiteer Version: 1.22.0 Command: /home/biocbuild/R/R/bin/R CMD INSTALL biscuiteer StartedAt: 2025-10-06 21:16:57 -0000 (Mon, 06 Oct 2025) EndedAt: 2025-10-06 21:18:46 -0000 (Mon, 06 Oct 2025) EllapsedTime: 109.1 seconds RetCode: 0 Status: OK