Package: biscuiteer Version: 1.22.0 Command: /home/biocbuild/R/R/bin/R CMD build --keep-empty-dirs --no-resave-data biscuiteer StartedAt: 2025-10-06 23:11:24 -0000 (Mon, 06 Oct 2025) EndedAt: 2025-10-06 23:14:14 -0000 (Mon, 06 Oct 2025) EllapsedTime: 170.0 seconds RetCode: 0 Status: OK PackageFile: biscuiteer_1.22.0.tar.gz PackageFileSize: 4.828 MiB