Package: biscuiteer Version: 1.22.0 Command: rm -rf biscuiteer.buildbin-libdir && mkdir biscuiteer.buildbin-libdir && /Users/biocbuild/BBS/utils/build-universal.sh biscuiteer_1.22.0.tar.gz /Library/Frameworks/R.framework/Resources/bin/R biscuiteer.buildbin-libdir StartedAt: 2025-04-21 22:28:00 -0400 (Mon, 21 Apr 2025) EndedAt: 2025-04-21 22:28:30 -0400 (Mon, 21 Apr 2025) EllapsedTime: 29.7 seconds RetCode: 0 Status: OK PackageFile: biscuiteer_1.22.0.tgz PackageFileSize: 5.198 MiB