Package: biovizBase Version: 1.58.0 Command: /home/biocbuild/bbs-3.22-bioc/R/bin/R CMD check --install=check:biovizBase.install-out.txt --library=/home/biocbuild/bbs-3.22-bioc/R/site-library --timings biovizBase_1.58.0.tar.gz StartedAt: 2025-11-18 01:04:53 -0500 (Tue, 18 Nov 2025) EndedAt: 2025-11-18 01:12:46 -0500 (Tue, 18 Nov 2025) EllapsedTime: 472.3 seconds RetCode: 0 Status: WARNINGS CheckDir: biovizBase.Rcheck Warnings: 2