Package: biovizBase Version: 1.58.0 Command: /home/biocbuild/bbs-3.22-bioc/R/bin/R CMD build --keep-empty-dirs --no-resave-data --md5 biovizBase StartedAt: 2025-11-11 16:36:27 -0500 (Tue, 11 Nov 2025) EndedAt: 2025-11-11 16:37:30 -0500 (Tue, 11 Nov 2025) EllapsedTime: 63.1 seconds RetCode: 0 Status: OK PackageFile: biovizBase_1.58.0.tar.gz PackageFileSize: 2.401 MiB