Package: biovizBase Version: 1.58.0 Command: /Library/Frameworks/R.framework/Resources/bin/R CMD build --keep-empty-dirs --no-resave-data biovizBase StartedAt: 2025-11-03 16:16:24 -0500 (Mon, 03 Nov 2025) EndedAt: 2025-11-03 16:17:37 -0500 (Mon, 03 Nov 2025) EllapsedTime: 73.1 seconds RetCode: 0 Status: OK PackageFile: biovizBase_1.58.0.tar.gz PackageFileSize: 2.397 MiB