Package: biovizBase Version: 1.58.0 Command: rm -rf biovizBase.buildbin-libdir && mkdir biovizBase.buildbin-libdir && /Users/biocbuild/BBS/utils/build-universal.sh biovizBase_1.58.0.tar.gz /Library/Frameworks/R.framework/Resources/bin/R biovizBase.buildbin-libdir StartedAt: 2025-11-04 01:30:07 -0500 (Tue, 04 Nov 2025) EndedAt: 2025-11-04 01:31:16 -0500 (Tue, 04 Nov 2025) EllapsedTime: 69.5 seconds RetCode: 0 Status: OK PackageFile: biovizBase_1.58.0.tgz PackageFileSize: 2.737 MiB