Package: biovizBase Version: 1.56.0 Command: /home/biocbuild/R/R/bin/R CMD INSTALL biovizBase StartedAt: 2025-10-13 20:57:00 -0000 (Mon, 13 Oct 2025) EndedAt: 2025-10-13 20:58:05 -0000 (Mon, 13 Oct 2025) EllapsedTime: 65.8 seconds RetCode: 0 Status: OK