Package: biovizBase Version: 1.58.0 Command: /Library/Frameworks/R.framework/Resources/bin/R CMD INSTALL biovizBase StartedAt: 2025-11-20 18:12:40 -0500 (Thu, 20 Nov 2025) EndedAt: 2025-11-20 18:13:36 -0500 (Thu, 20 Nov 2025) EllapsedTime: 56.0 seconds RetCode: 0 Status: OK