Package: biovizBase Version: 1.58.0 Command: /Library/Frameworks/R.framework/Resources/bin/R CMD build --keep-empty-dirs --no-resave-data biovizBase StartedAt: 2025-11-20 21:01:29 -0500 (Thu, 20 Nov 2025) EndedAt: 2025-11-20 21:02:53 -0500 (Thu, 20 Nov 2025) EllapsedTime: 84.1 seconds RetCode: 0 Status: OK PackageFile: biovizBase_1.58.0.tar.gz PackageFileSize: 2.397 MiB