Package: biotmle Version: 1.32.1 Command: /home/biocbuild/R/R/bin/R CMD INSTALL biotmle StartedAt: 2025-10-13 20:51:51 -0000 (Mon, 13 Oct 2025) EndedAt: 2025-10-13 20:52:27 -0000 (Mon, 13 Oct 2025) EllapsedTime: 36.5 seconds RetCode: 0 Status: OK