Package: biotmle Version: 1.32.1 Command: /home/biocbuild/R/R/bin/R CMD build --keep-empty-dirs --no-resave-data biotmle StartedAt: 2025-10-13 23:10:50 -0000 (Mon, 13 Oct 2025) EndedAt: 2025-10-13 23:12:37 -0000 (Mon, 13 Oct 2025) EllapsedTime: 107.0 seconds RetCode: 0 Status: OK PackageFile: biotmle_1.32.1.tar.gz PackageFileSize: 333.5 KiB