Package: biotmle Version: 1.34.0 Command: /Library/Frameworks/R.framework/Resources/bin/R CMD build --keep-empty-dirs --no-resave-data biotmle StartedAt: 2025-10-31 15:51:08 -0400 (Fri, 31 Oct 2025) EndedAt: 2025-10-31 15:51:36 -0400 (Fri, 31 Oct 2025) EllapsedTime: 28.3 seconds RetCode: 0 Status: OK PackageFile: biotmle_1.34.0.tar.gz PackageFileSize: 318.2 KiB