Package: biotmle Version: 1.34.0 Command: rm -rf biotmle.buildbin-libdir && mkdir biotmle.buildbin-libdir && /Users/biocbuild/BBS/utils/build-universal.sh biotmle_1.34.0.tar.gz /Library/Frameworks/R.framework/Resources/bin/R biotmle.buildbin-libdir StartedAt: 2025-10-31 22:59:44 -0400 (Fri, 31 Oct 2025) EndedAt: 2025-10-31 22:59:56 -0400 (Fri, 31 Oct 2025) EllapsedTime: 12.2 seconds RetCode: 0 Status: OK PackageFile: biotmle_1.34.0.tgz PackageFileSize: 371.9 KiB