Package: biosigner Version: 1.38.0 Command: /home/biocbuild/bbs-3.22-bioc/R/bin/R CMD INSTALL biosigner StartedAt: 2025-11-11 15:42:29 -0500 (Tue, 11 Nov 2025) EndedAt: 2025-11-11 15:42:55 -0500 (Tue, 11 Nov 2025) EllapsedTime: 26.5 seconds RetCode: 0 Status: OK