Package: biosigner Version: 1.36.4 Command: /home/biocbuild/R/R/bin/R CMD INSTALL biosigner StartedAt: 2025-10-13 20:52:35 -0000 (Mon, 13 Oct 2025) EndedAt: 2025-10-13 20:53:15 -0000 (Mon, 13 Oct 2025) EllapsedTime: 39.8 seconds RetCode: 0 Status: OK