Package: biosigner Version: 1.36.4 Command: /home/biocbuild/R/R/bin/R CMD build --keep-empty-dirs --no-resave-data biosigner StartedAt: 2025-10-13 23:10:01 -0000 (Mon, 13 Oct 2025) EndedAt: 2025-10-13 23:14:06 -0000 (Mon, 13 Oct 2025) EllapsedTime: 245.1 seconds RetCode: 0 Status: OK PackageFile: biosigner_1.36.4.tar.gz PackageFileSize: 4.863 MiB