Package: biosigner Version: 1.38.0 Command: /Library/Frameworks/R.framework/Resources/bin/R CMD INSTALL biosigner StartedAt: 2025-10-30 15:19:46 -0400 (Thu, 30 Oct 2025) EndedAt: 2025-10-30 15:19:56 -0400 (Thu, 30 Oct 2025) EllapsedTime: 10.6 seconds RetCode: 0 Status: OK