Package: biosigner Version: 1.38.0 Command: /Library/Frameworks/R.framework/Resources/bin/R CMD build --keep-empty-dirs --no-resave-data biosigner StartedAt: 2025-10-30 15:46:58 -0400 (Thu, 30 Oct 2025) EndedAt: 2025-10-30 15:48:05 -0400 (Thu, 30 Oct 2025) EllapsedTime: 66.7 seconds RetCode: 0 Status: OK PackageFile: biosigner_1.38.0.tar.gz PackageFileSize: 5.084 MiB