Package: biomvRCNS Version: 1.50.0 Command: /home/biocbuild/bbs-3.22-bioc/R/bin/R CMD INSTALL biomvRCNS StartedAt: 2025-11-14 15:52:21 -0500 (Fri, 14 Nov 2025) EndedAt: 2025-11-14 15:53:19 -0500 (Fri, 14 Nov 2025) EllapsedTime: 57.9 seconds RetCode: 0 Status: OK