Package: biomvRCNS Version: 1.50.0 Command: /home/biocbuild/bbs-3.22-bioc/R/bin/R CMD build --keep-empty-dirs --no-resave-data --md5 biomvRCNS StartedAt: 2025-11-14 16:33:34 -0500 (Fri, 14 Nov 2025) EndedAt: 2025-11-14 16:35:33 -0500 (Fri, 14 Nov 2025) EllapsedTime: 119.1 seconds RetCode: 0 Status: OK PackageFile: biomvRCNS_1.50.0.tar.gz PackageFileSize: 808.5 KiB