Package: biomformat Version: 1.38.0 Command: /Library/Frameworks/R.framework/Resources/bin/R CMD build --keep-empty-dirs --no-resave-data biomformat StartedAt: 2025-11-10 15:46:25 -0500 (Mon, 10 Nov 2025) EndedAt: 2025-11-10 15:46:30 -0500 (Mon, 10 Nov 2025) EllapsedTime: 5.1 seconds RetCode: 0 Status: OK PackageFile: biomformat_1.38.0.tar.gz PackageFileSize: 299.9 KiB