Package: biomaRt Version: 2.66.0 Command: /home/biocbuild/bbs-3.22-bioc/R/bin/R CMD INSTALL biomaRt StartedAt: 2025-11-11 15:30:09 -0500 (Tue, 11 Nov 2025) EndedAt: 2025-11-11 15:30:26 -0500 (Tue, 11 Nov 2025) EllapsedTime: 16.5 seconds RetCode: 0 Status: OK