Package: biomaRt Version: 2.66.0 Command: /home/biocbuild/bbs-3.22-bioc/R/bin/R CMD check --install=check:biomaRt.install-out.txt --library=/home/biocbuild/bbs-3.22-bioc/R/site-library --timings biomaRt_2.66.0.tar.gz StartedAt: 2025-11-13 21:37:35 -0500 (Thu, 13 Nov 2025) EndedAt: 2025-11-13 21:41:24 -0500 (Thu, 13 Nov 2025) EllapsedTime: 229.3 seconds RetCode: 0 Status: OK CheckDir: biomaRt.Rcheck Warnings: 0