Package: biomaRt Version: 2.66.0 Command: /home/biocbuild/bbs-3.22-bioc/R/bin/R CMD build --keep-empty-dirs --no-resave-data --md5 biomaRt StartedAt: 2025-11-11 16:35:15 -0500 (Tue, 11 Nov 2025) EndedAt: 2025-11-11 16:38:01 -0500 (Tue, 11 Nov 2025) EllapsedTime: 166.1 seconds RetCode: 0 Status: OK PackageFile: biomaRt_2.66.0.tar.gz PackageFileSize: 888.1 KiB