Package: biomaRt Version: 2.64.0 Command: /home/biocbuild/bbs-3.21-bioc/R/bin/R CMD INSTALL biomaRt StartedAt: 2025-10-15 15:25:00 -0400 (Wed, 15 Oct 2025) EndedAt: 2025-10-15 15:25:15 -0400 (Wed, 15 Oct 2025) EllapsedTime: 15.2 seconds RetCode: 0 Status: OK