Package: biomaRt Version: 2.64.0 Command: /home/biocbuild/bbs-3.21-bioc/R/bin/R CMD build --keep-empty-dirs --no-resave-data biomaRt StartedAt: 2025-10-15 16:27:11 -0400 (Wed, 15 Oct 2025) EndedAt: 2025-10-15 16:28:22 -0400 (Wed, 15 Oct 2025) EllapsedTime: 71.1 seconds RetCode: 0 Status: OK PackageFile: biomaRt_2.64.0.tar.gz PackageFileSize: 842.5 KiB