Package: biomaRt Version: 2.64.0 Command: /home/biocbuild/R/R/bin/R CMD INSTALL biomaRt StartedAt: 2025-10-02 20:39:33 -0000 (Thu, 02 Oct 2025) EndedAt: 2025-10-02 20:39:55 -0000 (Thu, 02 Oct 2025) EllapsedTime: 22.3 seconds RetCode: 0 Status: OK