Package: biomaRt Version: 2.64.0 Command: /home/biocbuild/R/R/bin/R CMD build --keep-empty-dirs --no-resave-data biomaRt StartedAt: 2025-10-02 23:09:45 -0000 (Thu, 02 Oct 2025) EndedAt: 2025-10-02 23:21:40 -0000 (Thu, 02 Oct 2025) EllapsedTime: 714.2 seconds RetCode: 0 Status: OK PackageFile: biomaRt_2.64.0.tar.gz PackageFileSize: 892.9 KiB