Package: biomaRt Version: 2.64.0 Command: /Library/Frameworks/R.framework/Resources/bin/R CMD INSTALL biomaRt StartedAt: 2025-10-13 15:47:50 -0400 (Mon, 13 Oct 2025) EndedAt: 2025-10-13 15:48:09 -0400 (Mon, 13 Oct 2025) EllapsedTime: 18.5 seconds RetCode: 0 Status: OK