Package: biomaRt Version: 2.64.0 Command: rm -rf biomaRt.buildbin-libdir && mkdir biomaRt.buildbin-libdir && /Users/biocbuild/BBS/utils/build-universal.sh biomaRt_2.64.0.tar.gz /Library/Frameworks/R.framework/Resources/bin/R biomaRt.buildbin-libdir StartedAt: 2025-10-15 17:36:46 -0400 (Wed, 15 Oct 2025) EndedAt: 2025-10-15 17:37:08 -0400 (Wed, 15 Oct 2025) EllapsedTime: 21.5 seconds RetCode: 0 Status: OK PackageFile: biomaRt_2.64.0.tgz PackageFileSize: 928.8 KiB