Package: biodbChebi Version: 1.16.0 Command: /home/biocbuild/bbs-3.22-bioc/R/bin/R CMD check --install=check:biodbChebi.install-out.txt --library=/home/biocbuild/bbs-3.22-bioc/R/site-library --timings biodbChebi_1.16.0.tar.gz StartedAt: 2025-11-14 21:39:32 -0500 (Fri, 14 Nov 2025) EndedAt: 2025-11-14 21:41:07 -0500 (Fri, 14 Nov 2025) EllapsedTime: 94.2 seconds RetCode: 0 Status: OK CheckDir: biodbChebi.Rcheck Warnings: 0