Package: biodbChebi Version: 1.16.0 Command: /Library/Frameworks/R.framework/Resources/bin/R CMD INSTALL biodbChebi StartedAt: 2025-11-03 15:17:43 -0500 (Mon, 03 Nov 2025) EndedAt: 2025-11-03 15:18:15 -0500 (Mon, 03 Nov 2025) EllapsedTime: 31.4 seconds RetCode: 0 Status: OK