Package: biodbChebi Version: 1.16.0 Command: /Library/Frameworks/R.framework/Resources/bin/R CMD build --keep-empty-dirs --no-resave-data biodbChebi StartedAt: 2025-11-03 16:15:11 -0500 (Mon, 03 Nov 2025) EndedAt: 2025-11-03 16:15:35 -0500 (Mon, 03 Nov 2025) EllapsedTime: 24.1 seconds RetCode: 0 Status: OK PackageFile: biodbChebi_1.16.0.tar.gz PackageFileSize: 312.4 KiB