Package: biodbChebi Version: 1.14.0 Command: /home/biocbuild/R/R/bin/R CMD INSTALL biodbChebi StartedAt: 2025-10-13 20:22:52 -0000 (Mon, 13 Oct 2025) EndedAt: 2025-10-13 20:23:03 -0000 (Mon, 13 Oct 2025) EllapsedTime: 10.6 seconds RetCode: 0 Status: OK