Package: biodbChebi Version: 1.14.0 Command: /home/biocbuild/R/R/bin/R CMD build --keep-empty-dirs --no-resave-data biodbChebi StartedAt: 2025-10-13 23:08:26 -0000 (Mon, 13 Oct 2025) EndedAt: 2025-10-13 23:08:42 -0000 (Mon, 13 Oct 2025) EllapsedTime: 16.0 seconds RetCode: 1 Status: ERROR PackageFile: None PackageFileSize: NA