Back to Multiple platform build/check report for BioC 3.22:   simplified   long
A[B]CDEFGHIJKLMNOPQRSTUVWXYZ

This page was generated on 2025-11-17 11:57 -0500 (Mon, 17 Nov 2025).

HostnameOSArch (*)R versionInstalled pkgs
nebbiolo2Linux (Ubuntu 24.04.3 LTS)x86_644.5.1 Patched (2025-08-23 r88802) -- "Great Square Root" 4903
taishanLinux (openEuler 24.03 LTS)aarch644.5.0 (2025-04-11) -- "How About a Twenty-Six" 4668
Click on any hostname to see more info about the system (e.g. compilers)      (*) as reported by 'uname -p', except on Windows and Mac OS X

All results for package biodb


To the developers/maintainers of the biodb package:
- Allow up to 24 hours (and sometimes 48 hours) for your latest push to git@git.bioconductor.org:packages/biodb.git to reflect on this report. See Troubleshooting Build Report for more information.
- Use the following Renviron settings to reproduce errors and warnings.
- If 'R CMD check' started to fail recently on the Linux builder(s) over a missing dependency, add the missing dependency to 'Suggests:' in your DESCRIPTION file. See Renviron.bioc for more information.

raw results

Package 209/2361HostnameOS / ArchINSTALLBUILDCHECKBUILD BIN
biodb 1.18.0  (landing page)
Pierrick Roger
Snapshot Date: 2025-11-16 13:45 -0500 (Sun, 16 Nov 2025)
git_url: https://git.bioconductor.org/packages/biodb
git_branch: RELEASE_3_22
git_last_commit: cb4e359
git_last_commit_date: 2025-10-29 11:09:05 -0500 (Wed, 29 Oct 2025)
nebbiolo2Linux (Ubuntu 24.04.3 LTS) / x86_64  OK    OK    WARNINGS  UNNEEDED, same version is already published
taishanLinux (openEuler 24.03 LTS) / aarch64  OK    OK    WARNINGS  



Results for Bioconductor software packages that depend directly on package biodb

QUICK STATSOS / ArchINSTALLBUILDCHECKBUILD BIN
nebbiolo2Linux (Ubuntu 24.04.3 LTS) / x86_64
006
042
0002
taishanLinux (openEuler 24.03 LTS) / aarch64
006
051
0001
Package 1/6HostnameOS / ArchINSTALLBUILDCHECKBUILD BIN
biodbChebi 1.16.0  (landing page)
Pierrick Roger
git_last_commit: 28c1b2d
git_last_commit_date: 2025-10-29 11:12:25 -0500
nebbiolo2Linux (Ubuntu 24.04.3 LTS) / x86_64  OK    OK    OK  UNNEEDED, same version is already published
taishanLinux (openEuler 24.03 LTS) / aarch64  OK    ERROR  skipped
Package 2/6HostnameOS / ArchINSTALLBUILDCHECKBUILD BIN
biodbHmdb 1.16.0  (landing page)
Pierrick Roger
git_last_commit: 4102973
git_last_commit_date: 2025-10-29 11:13:48 -0500
nebbiolo2Linux (Ubuntu 24.04.3 LTS) / x86_64  OK    ERROR  skipped
taishanLinux (openEuler 24.03 LTS) / aarch64  OK    ERROR  skipped
Package 3/6HostnameOS / ArchINSTALLBUILDCHECKBUILD BIN
biodbNcbi 1.14.0  (landing page)
Pierrick Roger
git_last_commit: dc1f90a
git_last_commit_date: 2025-10-29 11:15:40 -0500
nebbiolo2Linux (Ubuntu 24.04.3 LTS) / x86_64  OK    ERROR  skipped
taishanLinux (openEuler 24.03 LTS) / aarch64  OK    ERROR  skipped
Package 4/6HostnameOS / ArchINSTALLBUILDCHECKBUILD BIN
biodbNci 1.14.0  (landing page)
Pierrick Roger
git_last_commit: 4ce22d8
git_last_commit_date: 2025-10-29 11:15:34 -0500
nebbiolo2Linux (Ubuntu 24.04.3 LTS) / x86_64  OK    ERROR  skipped
taishanLinux (openEuler 24.03 LTS) / aarch64  OK    ERROR  skipped
Package 5/6HostnameOS / ArchINSTALLBUILDCHECKBUILD BIN
biodbUniprot 1.16.0  (landing page)
Pierrick Roger
git_last_commit: 13a976e
git_last_commit_date: 2025-10-29 11:12:59 -0500
nebbiolo2Linux (Ubuntu 24.04.3 LTS) / x86_64  OK    ERROR  skipped
taishanLinux (openEuler 24.03 LTS) / aarch64  OK    ERROR  skipped
Package 6/6HostnameOS / ArchINSTALLBUILDCHECKBUILD BIN
phenomis 1.12.0  (landing page)
Etienne A. Thevenot
git_last_commit: 7918c7b
git_last_commit_date: 2025-10-29 11:18:33 -0500
nebbiolo2Linux (Ubuntu 24.04.3 LTS) / x86_64  OK    OK    OK  UNNEEDED, same version is already published
taishanLinux (openEuler 24.03 LTS) / aarch64  OK    OK    OK