Package: biocthis Version: 1.20.0 Command: /home/biocbuild/bbs-3.22-bioc/R/bin/R CMD INSTALL biocthis StartedAt: 2025-11-06 15:11:07 -0500 (Thu, 06 Nov 2025) EndedAt: 2025-11-06 15:11:15 -0500 (Thu, 06 Nov 2025) EllapsedTime: 8.2 seconds RetCode: 0 Status: OK