Package: biocthis Version: 1.20.0 Command: /home/biocbuild/bbs-3.22-bioc/R/bin/R CMD build --keep-empty-dirs --no-resave-data --md5 biocthis StartedAt: 2025-11-06 16:31:14 -0500 (Thu, 06 Nov 2025) EndedAt: 2025-11-06 16:31:29 -0500 (Thu, 06 Nov 2025) EllapsedTime: 15.0 seconds RetCode: 0 Status: OK PackageFile: biocthis_1.20.0.tar.gz PackageFileSize: 662.2 KiB