Package: biocroxytest Version: 1.6.0 Command: /home/biocbuild/R/R/bin/R CMD INSTALL biocroxytest StartedAt: 2025-11-13 21:12:04 -0000 (Thu, 13 Nov 2025) EndedAt: 2025-11-13 21:12:41 -0000 (Thu, 13 Nov 2025) EllapsedTime: 36.9 seconds RetCode: 0 Status: OK