Package: biocroxytest Version: 1.6.0 Command: /home/biocbuild/R/R/bin/R CMD build --keep-empty-dirs --no-resave-data biocroxytest StartedAt: 2025-11-14 00:01:51 -0000 (Fri, 14 Nov 2025) EndedAt: 2025-11-14 00:01:58 -0000 (Fri, 14 Nov 2025) EllapsedTime: 7.0 seconds RetCode: 0 Status: OK PackageFile: biocroxytest_1.6.0.tar.gz PackageFileSize: 2.494 MiB