Package: biocroxytest Version: 1.6.0 Command: /home/biocbuild/bbs-3.22-bioc/R/bin/R CMD build --keep-empty-dirs --no-resave-data --md5 biocroxytest StartedAt: 2025-11-11 16:34:10 -0500 (Tue, 11 Nov 2025) EndedAt: 2025-11-11 16:34:16 -0500 (Tue, 11 Nov 2025) EllapsedTime: 6.0 seconds RetCode: 0 Status: OK PackageFile: biocroxytest_1.6.0.tar.gz PackageFileSize: 2.495 MiB