Package: biocroxytest Version: 1.4.0 Command: /home/biocbuild/bbs-3.21-bioc/R/bin/R CMD INSTALL biocroxytest StartedAt: 2025-10-15 15:07:48 -0400 (Wed, 15 Oct 2025) EndedAt: 2025-10-15 15:08:08 -0400 (Wed, 15 Oct 2025) EllapsedTime: 20.1 seconds RetCode: 0 Status: OK