Package: biocroxytest Version: 1.6.0 Maintainer: Francesc Catala-Moll MaintainerEmail: fcatala at irsicaixa.es git_url: https://git.bioconductor.org/packages/biocroxytest git_branch: RELEASE_3_22 git_last_commit: bbd5ac6 git_last_commit_date: 2025-10-29 11:27:36 -0500 (Wed, 29 Oct 2025)