Package: biocmake Version: 1.2.0 Command: /home/biocbuild/bbs-3.22-bioc/R/bin/R CMD check --install=check:biocmake.install-out.txt --library=/home/biocbuild/bbs-3.22-bioc/R/site-library --timings biocmake_1.2.0.tar.gz StartedAt: 2025-11-13 21:35:42 -0500 (Thu, 13 Nov 2025) EndedAt: 2025-11-13 21:36:03 -0500 (Thu, 13 Nov 2025) EllapsedTime: 21.0 seconds RetCode: 0 Status: OK CheckDir: biocmake.Rcheck Warnings: 0