Package: biocmake Version: 1.0.1 Command: /home/biocbuild/bbs-3.21-bioc/R/bin/R CMD INSTALL biocmake StartedAt: 2025-10-15 15:04:28 -0400 (Wed, 15 Oct 2025) EndedAt: 2025-10-15 15:04:45 -0400 (Wed, 15 Oct 2025) EllapsedTime: 17.2 seconds RetCode: 0 Status: OK