Package: biocmake Version: 1.0.1 Command: /home/biocbuild/bbs-3.21-bioc/R/bin/R CMD build --keep-empty-dirs --no-resave-data biocmake StartedAt: 2025-10-15 16:25:51 -0400 (Wed, 15 Oct 2025) EndedAt: 2025-10-15 16:25:56 -0400 (Wed, 15 Oct 2025) EllapsedTime: 5.0 seconds RetCode: 0 Status: OK PackageFile: biocmake_1.0.1.tar.gz PackageFileSize: 222.7 KiB