Package: biocmake Version: 1.2.0 Command: /Library/Frameworks/R.framework/Resources/bin/R CMD build --keep-empty-dirs --no-resave-data biocmake StartedAt: 2025-10-31 16:18:51 -0400 (Fri, 31 Oct 2025) EndedAt: 2025-10-31 16:19:02 -0400 (Fri, 31 Oct 2025) EllapsedTime: 11.5 seconds RetCode: 0 Status: OK PackageFile: biocmake_1.2.0.tar.gz PackageFileSize: 223.2 KiB