Package: biocmake Version: 1.0.1 Command: /home/biocbuild/R/R/bin/R CMD INSTALL biocmake StartedAt: 2025-10-02 20:16:02 -0000 (Thu, 02 Oct 2025) EndedAt: 2025-10-02 20:16:21 -0000 (Thu, 02 Oct 2025) EllapsedTime: 19.4 seconds RetCode: 0 Status: OK